Felt | Verdi |
AlreadyApplied | True |
Aperture | 3.5 |
ApertureValue | 3.5 |
BitsPerSample | 8 |
BlueHue | 0 |
BlueSaturation | 0 |
Brightness | +32 |
CameraProfile | Embedded |
ChromaticAberrationB | 0 |
ChromaticAberrationR | 0 |
Clarity | +24 |
ColorComponents | 1 |
ColorMode | RGB |
ColorNoiseReduction | 0 |
ColorSpace | Uncalibrated |
Contrast | +12 |
ConvertToGrayscale | True |
CreateDate | 2013:07:13 17:37:37 |
CreatorTool | QuickTime 7.6.6 |
CropAngle | 0 |
CropBottom | 1 |
CropLeft | 0 |
CropRight | 1 |
CropTop | 0 |
DateCreated (1) | 2013:07:13 |
DateCreated | 2013:07:13 17:37:37 |
DateTimeOriginal | 2013:07:13 17:37:37 |
Defringe | 0 |
ExifImageHeight | 2736 |
ExifImageWidth | 3648 |
Exposure | -0.30 |
ExposureCompensation | 0 |
ExposureTime | 1/1250 |
FillLight | 15 |
Flash | Off, Did not fire |
FNumber | 3.5 |
FocalLength | 12.1 mm |
FocalLength35efl | 12.1 mm |
Format | image/jpeg |
GrainAmount | 0 |
GrayMixerAqua | -17 |
GrayMixerBlue | +13 |
GrayMixerGreen | -28 |
GrayMixerMagenta | +4 |
GrayMixerOrange | -21 |
GrayMixerPurple | +18 |
GrayMixerRed | -11 |
GrayMixerYellow | -25 |
GreenHue | 0 |
GreenSaturation | 0 |
HasCrop | True |
HasSettings | True |
HighlightRecovery | 45 |
ICCProfileName | ProPhoto RGB |
ImageHeight | 2736 |
ImageSize | 3648x2736 |
ImageWidth | 3648 |
IncrementalTemperature | 0 |
IncrementalTint | 0 |
ISO | 200 |
Label | |
LightValue | 12.9 |
LuminanceSmoothing | 0 |
Make | Canon |
MaxApertureValue | 3.5 |
Megapixels | 10.0 |
MeteringMode | Center-weighted average |
Model | Canon PowerShot G12 |
ModifyDate (1) | 2013:07:13 22:17:20+02:00 |
ModifyDate | 2013:07:13 22:17:20 |
Orientation | Horizontal (normal) |
ParametricDarks | 0 |
ParametricHighlights | 0 |
ParametricHighlightSplit | 75 |
ParametricLights | 0 |
ParametricMidtoneSplit | 50 |
ParametricShadows | 0 |
ParametricShadowSplit | 25 |
PostCropVignetteAmount | 0 |
ProcessVersion | 5.7 |
ProfileDescription | ProPhoto RGB |
Rating | 0 |
RawFileName | IMG_2238.jpg |
RedHue | 0 |
RedSaturation | 0 |
SensingMethod | One-chip color area |
Shadows | 12 |
ShadowTint | 0 |
SharpenDetail | 25 |
SharpenEdgeMasking | 0 |
SharpenRadius | +1.0 |
Sharpness | 0 |
ShutterSpeed | 1/1250 |
ShutterSpeedValue | 1/1250 |
Software | Adobe Photoshop CS5 Macintosh |
SplitToningBalance | 0 |
SplitToningHighlightHue | 0 |
SplitToningHighlightSaturation | 0 |
SplitToningShadowHue | 0 |
SplitToningShadowSaturation | 0 |
ToneCurve | 0, 0, 255, 255 |
ToneCurveName | Linear |
URL_List | |
Version | 6.0 |
VignetteAmount | 0 |
WhiteBalance | Custom |