Felt | Verdi |
AlreadyApplied | True |
Aperture | 6.3 |
ApertureValue | 6.3 |
ApproximateFocusDistance | 4294967295 |
BitsPerSample (1) | 8 8 8 |
BitsPerSample | 8 |
BlueHue | 0 |
BlueSaturation | 0 |
Brightness | +73 |
CameraProfile | Adobe Standard |
ChromaticAberrationB | 0 |
ChromaticAberrationR | 0 |
CircleOfConfusion | 0.019 mm |
Clarity | +13 |
ColorComponents | 3 |
ColorMode | RGB |
ColorNoiseReduction | 29 |
ColorNoiseReductionDetail | 100 |
ColorSpace | Uncalibrated |
ColorTemperature | 7650 |
Contrast | +78 |
ConvertToGrayscale | False |
CreateDate (1) | 2011:06:17 20:19:48.15 |
CreateDate | 2011:06:17 20:19:48 |
CreatorTool | Adobe Photoshop CS5 Windows |
CustomRendered | Normal |
DateCreated (1) | 2011:06:17 |
DateCreated | 2011:06:17 20:19:48.015 |
DateTimeOriginal | 2011:06:17 20:19:48 |
Defringe | 0 |
DOF | inf (335.53 m - inf) |
ExifImageHeight | 2538 |
ExifImageWidth | 4752 |
Exposure | -0.90 |
ExposureCompensation | 0 |
ExposureMode | Auto |
ExposureProgram | Aperture-priority AE |
ExposureTime | 1/1000 |
FillLight | 13 |
Firmware | 1.1.0 |
Flash | Off, Did not fire |
FlashCompensation | 0 |
FNumber | 6.3 |
FocalLength | 200.0 mm |
FocalLength35efl | 200.0 mm (35 mm equivalent: 317.6 mm) |
Format | image/jpeg |
FOV | 6.5 deg |
GrainAmount | 0 |
GreenHue | 0 |
GreenSaturation | 0 |
HasCrop | False |
HasSettings | True |
HighlightRecovery | 100 |
HueAdjustmentAqua | 0 |
HueAdjustmentBlue | 0 |
HueAdjustmentGreen | 0 |
HueAdjustmentMagenta | 0 |
HueAdjustmentOrange | 0 |
HueAdjustmentPurple | 0 |
HueAdjustmentRed | 0 |
HueAdjustmentYellow | 0 |
HyperfocalDistance | 335.53 m |
ICCProfileName | Adobe RGB (1998) |
ImageHeight | 2538 |
ImageNumber | 0 |
ImageSize | 4752x2538 |
ImageWidth | 4752 |
ISO | 800 |
Lens | EF70-200mm f/4L USM |
LensID (1) | 186 |
LensID | Canon EF 70-200mm f/4L USM |
LensInfo | 70-200mm f/? |
LensManualDistortionAmount | 0 |
LensModel | EF70-200mm f/4L USM |
LensProfileEnable | 0 |
LensProfileSetup | LensDefaults |
LightValue | 12.3 |
LuminanceAdjustmentAqua | 0 |
LuminanceAdjustmentBlue | 0 |
LuminanceAdjustmentGreen | 0 |
LuminanceAdjustmentMagenta | 0 |
LuminanceAdjustmentOrange | 0 |
LuminanceAdjustmentPurple | 0 |
LuminanceAdjustmentRed | 0 |
LuminanceAdjustmentYellow | 0 |
LuminanceNoiseReductionContrast | 0 |
LuminanceNoiseReductionDetail | 100 |
LuminanceSmoothing | 28 |
Make | Canon |
MaxApertureValue | 4.0 |
Megapixels | 12.1 |
MeteringMode | Spot |
Model | Canon EOS 500D |
ModifyDate (1) | 2011:07:20 02:26:06+02:00 |
ModifyDate | 2011:07:20 02:26:06 |
Orientation | Horizontal (normal) |
ParametricDarks | 0 |
ParametricHighlights | 0 |
ParametricHighlightSplit | 75 |
ParametricLights | 0 |
ParametricMidtoneSplit | 50 |
ParametricShadows | 0 |
ParametricShadowSplit | 25 |
PerspectiveHorizontal | 0 |
PerspectiveRotate | 0.0 |
PerspectiveScale | 100 |
PerspectiveVertical | 0 |
PhotometricInterpretation | RGB |
PostCropVignetteAmount | 0 |
ProcessVersion | 5.7 |
ProfileDescription | Adobe RGB (1998) |
Rating | 0 |
RawFileName | IMG_1763.CR2 |
RedHue | 0 |
RedSaturation | 0 |
Saturation | 0 |
SaturationAdjustmentAqua | 0 |
SaturationAdjustmentBlue | 0 |
SaturationAdjustmentGreen | 0 |
SaturationAdjustmentMagenta | 0 |
SaturationAdjustmentOrange | 0 |
SaturationAdjustmentPurple | 0 |
SaturationAdjustmentRed | 0 |
SaturationAdjustmentYellow | 0 |
ScaleFactor35efl | 1.6 |
SceneCaptureType | Standard |
SerialNumber | 2350791948 |
Shadows | 13 |
ShadowTint | 0 |
SharpenDetail | 0 |
SharpenEdgeMasking | 0 |
SharpenRadius | +3.0 |
Sharpness | 89 |
ShutterSpeed | 1/1000 |
ShutterSpeedValue | 1/1000 |
Software | Adobe Photoshop CS5 Windows |
SplitToningBalance | 0 |
SplitToningHighlightHue | 0 |
SplitToningHighlightSaturation | 0 |
SplitToningShadowHue | 0 |
SplitToningShadowSaturation | 0 |
SubjectDistance | 4294967295 m |
Tint | -25 |
ToneCurve | 0, 0, 32, 22, 64, 56, 128, 128, 192, 196, 255, 255 |
ToneCurveName | Medium Contrast |
URL_List | |
Version | 6.4.1 |
Vibrance | +11 |
VignetteAmount | 0 |
WhiteBalance (1) | Custom |
WhiteBalance | Auto |