Felt | Verdi |
AlreadyApplied | True |
Aperture | 7.1 |
ApertureValue | 7.1 |
Artist | Tor Olav Flaata |
BitsPerSample | 8 |
BlueHue | 0 |
BlueSaturation | 0 |
Brightness | +20 |
By-line | Tor Olav Flaata |
CameraProfile | Camera Standard |
CFAPattern | [Red,Green][Green,Blue] |
ChromaticAberrationB | 0 |
ChromaticAberrationR | 0 |
CircleOfConfusion | 0.020 mm |
Clarity | +17 |
ColorComponents | 3 |
ColorNoiseReduction | 25 |
ColorTemperature | 5571 |
Contrast (2) | +26 |
Contrast | Normal |
ConvertToGrayscale | False |
Copyright | Tor Olav Flaata |
CopyrightNotice | Tor Olav Flaata |
CreateDate (1) | 2009:09:15 17:58:03.51+02:00 |
CreateDate | 2009:09:15 17:58:03 |
Creator | Tor Olav Flaata |
CreatorTool | Adobe Photoshop Lightroom |
CropAngle | 0 |
CropBottom | 0.87451 |
CropHeight | 595 |
CropLeft | 0 |
CropRight | 1 |
CropTop | 0 |
CropUnit | pixels |
CropWidth | 1024 |
CustomRendered | Normal |
DateTimeDigitized | 2009:09:15 17:58:03.51+02:00 |
DateTimeOriginal (1) | 2009:09:15 17:58:03.51+02:00 |
DateTimeOriginal | 2009:09:15 17:58:03 |
Defringe | 0 |
DigitalZoomRatio | 1 |
DOF | inf (14.13 m - inf) |
ExifImageHeight | 595 |
ExifImageWidth | 1024 |
Exposure | +0.19 |
ExposureCompensation | 0 |
ExposureMode | Auto |
ExposureProgram | Program AE |
ExposureTime | 1/200 |
FillLight | 19 |
Flash | No Flash |
FlashFired | False |
FlashFunction | False |
FlashMode | Unknown |
FlashRedEyeMode | False |
FlashReturn | No return detection |
FNumber | 7.1 |
FocalLength | 45.0 mm |
FocalLength35efl | 45.0 mm (35 mm equivalent: 67.0 mm) |
FocalLengthIn35mmFormat | 67 mm |
FOV | 30.1 deg |
GainControl | None |
GradientBasedCorrActive | true |
GradientBasedCorrAmount | 1.000000 |
GradientBasedCorrBrightness | 0.000000 |
GradientBasedCorrClarity | 0.000000 |
GradientBasedCorrContrast | 0.000000 |
GradientBasedCorrExposure | -0.246400 |
GradientBasedCorrHue | 50.000000 |
GradientBasedCorrMaskFullX | 0.476190 |
GradientBasedCorrMaskFullY | -0.004777 |
GradientBasedCorrMaskValue | 1.000000 |
GradientBasedCorrMaskWhat | Mask/Gradient |
GradientBasedCorrMaskZeroX | 0.466667 |
GradientBasedCorrMaskZeroY | 1.036620 |
GradientBasedCorrSaturation (1) | 0.000000 |
GradientBasedCorrSaturation | 0.616000 |
GradientBasedCorrSharpness | 0.000000 |
GradientBasedCorrWhat | Correction |
GreenHue | 0 |
GreenSaturation | 0 |
HasCrop | True |
HasSettings | True |
HighlightRecovery | 19 |
HueAdjustmentAqua | 0 |
HueAdjustmentBlue | 0 |
HueAdjustmentGreen | 0 |
HueAdjustmentMagenta | 0 |
HueAdjustmentOrange | 0 |
HueAdjustmentPurple | 0 |
HueAdjustmentRed | 0 |
HueAdjustmentYellow | 0 |
HyperfocalDistance | 14.13 m |
ImageHeight | 595 |
ImageNumber | 2712 |
ImageSize | 1024x595 |
ImageWidth | 1024 |
ISO | 200 |
Keywords | Storaberget |
Lens | 16.0-85.0 mm f/3.5-5.6 |
LensInfo | 16-85mm f/3.5-5.6 |
LightSource | Unknown |
LightValue | 12.3 |
LuminanceAdjustmentAqua | 0 |
LuminanceAdjustmentBlue | 0 |
LuminanceAdjustmentGreen | 0 |
LuminanceAdjustmentMagenta | 0 |
LuminanceAdjustmentOrange | 0 |
LuminanceAdjustmentPurple | 0 |
LuminanceAdjustmentRed | 0 |
LuminanceAdjustmentYellow | 0 |
LuminanceSmoothing | 0 |
Make | NIKON CORPORATION |
MaxApertureValue | 4.8 |
Megapixels | 0.609 |
MeteringMode | Multi-segment |
Model | NIKON D300 |
ModifyDate (1) | 2010:01:25 22:15:35+01:00 |
ModifyDate | 2010:01:25 22:15:35 |
ParametricDarks | 0 |
ParametricHighlights | 0 |
ParametricHighlightSplit | 75 |
ParametricLights | 0 |
ParametricMidtoneSplit | 50 |
ParametricShadows | 0 |
ParametricShadowSplit | 25 |
PostCropVignetteAmount | -23 |
PostCropVignetteFeather | 81 |
PostCropVignetteMidpoint | 50 |
PostCropVignetteRoundness | -73 |
ProfileDescription | sRGB IEC61966-2.1 |
RedHue | 0 |
RedSaturation | 0 |
Rights | Tor Olav Flaata |
Saturation (2) | 0 |
Saturation | Normal |
SaturationAdjustmentAqua | 0 |
SaturationAdjustmentBlue | 0 |
SaturationAdjustmentGreen | 0 |
SaturationAdjustmentMagenta | 0 |
SaturationAdjustmentOrange | 0 |
SaturationAdjustmentPurple | 0 |
SaturationAdjustmentRed | 0 |
SaturationAdjustmentYellow | 0 |
ScaleFactor35efl | 1.5 |
SceneCaptureType | Standard |
SceneType | Directly photographed |
SensingMethod | One-chip color area |
SerialNumber | 4145659 |
Shadows | 4 |
ShadowTint | 0 |
SharpenDetail | 25 |
SharpenEdgeMasking | 0 |
SharpenRadius | +1.0 |
Sharpness (2) | 45 |
Sharpness | Normal |
ShutterSpeed | 1/200 |
ShutterSpeedValue | 1/200 |
Software | Ver.1.10 |
SplitToningBalance | 0 |
SplitToningHighlightHue | 0 |
SplitToningHighlightSaturation | 0 |
SplitToningShadowHue | 0 |
SplitToningShadowSaturation | 0 |
Subject | Storaberget |
SubjectDistance | 4294967295 m |
SubjectDistanceRange | Unknown |
Tint | +12 |
ToneCurve | 0, 0, 32, 22, 64, 56, 128, 128, 192, 196, 255, 255 |
ToneCurveName | Medium Contrast |
Version | 5.6 |
Vibrance | +19 |
VignetteAmount | 0 |
WhiteBalance (2) | Custom |
WhiteBalance | Auto |