Felt | Verdi |
AlreadyApplied | True |
Aperture | 2.8 |
ApertureValue | 2.8 |
Artist | Svein Otto Jacobsen |
BitsPerSample | 8 |
BlueHue | 0 |
BlueSaturation | 0 |
Brightness | 0 |
By-line | Svein Otto Jacobsen |
CameraProfile | Adobe Standard |
Caption-Abstract | Haakons Hall & Rosenkrantz Tower, Bergen, Norway |
ChromaticAberrationB | 0 |
ChromaticAberrationR | 0 |
CircleOfConfusion | 0.031 mm |
Clarity | +31 |
ColorComponents | 3 |
ColorNoiseReduction | 25 |
ColorTemperature | 2000 |
Contrast | 0 |
ConvertToGrayscale | False |
Copyright | Copyright: Svein Otto Jacobsen |
CopyrightNotice | Copyright: Svein Otto Jacobsen |
CreateDate (1) | 2009:10:28 21:00:10.53+01:00 |
CreateDate | 2009:10:28 21:00:10 |
Creator | Svein Otto Jacobsen |
CreatorTool | Adobe Photoshop Lightroom |
CropAngle | 0 |
CropBottom | 1 |
CropHeight | 3744 |
CropLeft | 0.066666 |
CropRight | 1 |
CropTop | 0 |
CropUnit | pixels |
CropWidth | 5242 |
CustomRendered | Normal |
DateTimeDigitized | 2009:10:28 21:00:10.53+01:00 |
DateTimeOriginal (1) | 2009:10:28 21:00:10.53+01:00 |
DateTimeOriginal | 2009:10:28 21:00:10 |
Defringe | 0 |
Description | Haakons Hall & Rosenkrantz Tower, Bergen, Norway |
ExifImageHeight | 3744 |
ExifImageWidth | 5242 |
Exposure | -0.05 |
ExposureCompensation | 0 |
ExposureMode | Auto |
ExposureProgram | Program AE |
ExposureTime | 2 |
FillLight | 0 |
Firmware | 1.1.0 |
Flash | Off, Did not fire |
FlashCompensation | 0 |
FlashFired | False |
FlashFunction | False |
FlashMode | Off |
FlashRedEyeMode | False |
FlashReturn | No return detection |
FNumber | 2.8 |
FocalLength | 70.0 mm |
FocalLength35efl | 70.0 mm (35 mm equivalent: 68.3 mm) |
FOV | 29.5 deg |
GreenHue | 0 |
GreenSaturation | 0 |
HasCrop | True |
HasSettings | True |
HighlightRecovery | 27 |
HueAdjustmentAqua | 0 |
HueAdjustmentBlue | 0 |
HueAdjustmentGreen | 0 |
HueAdjustmentMagenta | 0 |
HueAdjustmentOrange | 0 |
HueAdjustmentPurple | 0 |
HueAdjustmentRed | 0 |
HueAdjustmentYellow | 0 |
HyperfocalDistance | 56.84 m |
ImageDescription | Haakons Hall & Rosenkrantz Tower, Bergen, Norway |
ImageHeight | 3744 |
ImageNumber | 0 |
ImageSize | 5242x3744 |
ImageWidth | 5242 |
ISO | 100 |
Keywords | Castle, Old, Rosenkrantz, Rosenkrantz tower, bergen, brick, city, cloudy, fjord, haakons hall, hordaland county, night, norway, outdoor, outdoors, overcast, palace, park, scandinavia, sea, sky, tower, view, viking |
Lens | EF24-70mm f/2.8L USM |
LensInfo | 24-70mm f/? |
LightValue | 2.0 |
LuminanceAdjustmentAqua | 0 |
LuminanceAdjustmentBlue | 0 |
LuminanceAdjustmentGreen | 0 |
LuminanceAdjustmentMagenta | 0 |
LuminanceAdjustmentOrange | 0 |
LuminanceAdjustmentPurple | 0 |
LuminanceAdjustmentRed | 0 |
LuminanceAdjustmentYellow | 0 |
LuminanceSmoothing | 48 |
Make | Canon |
MaxApertureValue | 2.8 |
Megapixels | 19.6 |
MeteringMode | Multi-segment |
Model | Canon EOS 5D Mark II |
ModifyDate (1) | 2009:10:28 22:01:42+01:00 |
ModifyDate | 2009:10:28 22:01:42 |
ObjectName | Haakons Hall & Rosenkrantz Tower, Bergen, Norway |
OwnerName | Svein Otto Jacobsen |
ParametricDarks | 0 |
ParametricHighlights | 0 |
ParametricHighlightSplit | 75 |
ParametricLights | 0 |
ParametricMidtoneSplit | 50 |
ParametricShadows | 0 |
ParametricShadowSplit | 25 |
PostCropVignetteAmount | 0 |
ProfileDescription | sRGB IEC61966-2.1 |
RedHue | 0 |
RedSaturation | 0 |
Rights | Copyright: Svein Otto Jacobsen |
Saturation | 0 |
SaturationAdjustmentAqua | 0 |
SaturationAdjustmentBlue | 0 |
SaturationAdjustmentGreen | 0 |
SaturationAdjustmentMagenta | 0 |
SaturationAdjustmentOrange | 0 |
SaturationAdjustmentPurple | 0 |
SaturationAdjustmentRed | 0 |
SaturationAdjustmentYellow | 0 |
ScaleFactor35efl | 1.0 |
SceneCaptureType | Standard |
SerialNumber | 830501077 |
Shadows | 0 |
ShadowTint | 0 |
SharpenDetail | 25 |
SharpenEdgeMasking | 0 |
SharpenRadius | +1.0 |
Sharpness | 57 |
ShutterSpeed | 2 |
ShutterSpeedValue | 2 |
SplitToningBalance | 0 |
SplitToningHighlightHue | 0 |
SplitToningHighlightSaturation | 0 |
SplitToningShadowHue | 0 |
SplitToningShadowSaturation | 0 |
Subject | Castle, Old, Rosenkrantz, Rosenkrantz tower, bergen, brick, city, cloudy, fjord, haakons hall, hordaland county, night, norway, outdoor, outdoors, overcast, palace, park, scandinavia, sea, sky, tower, view, viking |
Tint | +9 |
Title | Haakons Hall & Rosenkrantz Tower, Bergen, Norway |
ToneCurve | 0, 0, 32, 22, 64, 56, 128, 128, 192, 196, 255, 255 |
ToneCurveName | Medium Contrast |
Version | 5.5 |
Vibrance | 0 |
VignetteAmount | 0 |
WhiteBalance (2) | Custom |
WhiteBalance | Auto |