Felt | Verdi |
AlreadyApplied | True |
Aperture | 4.0 |
ApertureValue | 4.0 |
Artist | Torbjørn Pehrsen |
BitsPerSample | 8 |
BlueHue | 0 |
BlueSaturation | 0 |
Brightness | +25 |
By-line | Torbjørn Pehrsen |
CameraProfile | Adobe Standard |
ChromaticAberrationB | 0 |
ChromaticAberrationR | 0 |
CircleOfConfusion | 0.019 mm |
Clarity | +35 |
ColorComponents | 3 |
ColorMode | RGB |
ColorNoiseReduction | 25 |
ColorSpace (1) | Unknown (-1) |
ColorSpace | Uncalibrated |
ColorTemperature | 5200 |
Contrast | +40 |
ConvertToGrayscale | False |
Copyright | Copyright Torbjørn Pehrsen |
CopyrightFlag | False |
CopyrightNotice | Copyright Torbjørn Pehrsen |
CreateDate (1) | 2009:08:16 21:42:59+02:00 |
CreateDate | 2009:08:15 15:14:06 |
Creator | Torbjørn Pehrsen |
CreatorTool | Adobe Photoshop Elements 6.0 Windows |
CustomRendered | Normal |
DateTimeDigitized | 2009:08:15 15:14:06.06+02:00 |
DateTimeOriginal (1) | 2009:08:15 13:14:06Z |
DateTimeOriginal | 2009:08:15 13:14:06 |
Defringe | 0 |
ExifImageHeight | 3168 |
ExifImageWidth | 4752 |
Exposure | 0.00 |
ExposureCompensation | 0 |
ExposureMode | Auto |
ExposureProgram | Aperture-priority AE |
ExposureTime | 1/250 |
FillLight | 0 |
Firmware | 1.0.3 |
Flash | Off, Did not fire |
FlashCompensation | 0 |
FlashFired | False |
FlashFunction | False |
FlashMode | Off |
FlashRedEyeMode | False |
FlashReturn | No return detection |
FNumber | 4.0 |
FocalLength | 195.0 mm |
FocalLength35efl | 195.0 mm (35 mm equivalent: 309.0 mm) |
Format | image/jpeg |
FOV | 6.7 deg |
GreenHue | 0 |
GreenSaturation | 0 |
HasCrop | False |
HasSettings | True |
HighlightRecovery | 0 |
HueAdjustmentAqua | 0 |
HueAdjustmentBlue | 0 |
HueAdjustmentGreen | 0 |
HueAdjustmentMagenta | 0 |
HueAdjustmentOrange | 0 |
HueAdjustmentPurple | 0 |
HueAdjustmentRed | 0 |
HueAdjustmentYellow | 0 |
HyperfocalDistance | 501.33 m |
ICCProfileName | Adobe RGB (1998) |
ImageHeight | 3168 |
ImageNumber | 0 |
ImageSize | 4752x3168 |
ImageWidth | 4752 |
ISO | 400 |
Lens | EF70-200mm f/2.8L IS USM |
LensInfo | 70-200mm f/? |
LightValue | 10.0 |
LuminanceAdjustmentAqua | 0 |
LuminanceAdjustmentBlue | 0 |
LuminanceAdjustmentGreen | 0 |
LuminanceAdjustmentMagenta | 0 |
LuminanceAdjustmentOrange | 0 |
LuminanceAdjustmentPurple | 0 |
LuminanceAdjustmentRed | 0 |
LuminanceAdjustmentYellow | 0 |
LuminanceSmoothing | 0 |
Make | Canon |
MaxApertureValue | 2.8 |
Megapixels | 15.1 |
MeteringMode | Partial |
Model | Canon EOS 50D |
ModifyDate (1) | 2009:08:16 21:42:59+02:00 |
ModifyDate | 2009:08:16 21:42:59 |
Orientation | Horizontal (normal) |
ParametricDarks | 0 |
ParametricHighlights | 0 |
ParametricHighlightSplit | 75 |
ParametricLights | 0 |
ParametricMidtoneSplit | 50 |
ParametricShadows | 0 |
ParametricShadowSplit | 25 |
PostCropVignetteAmount | 0 |
ProfileDescription | Adobe RGB (1998) |
Rating | 0 |
RawFileName | IMG_3609.CR2 |
RedHue | 0 |
RedSaturation | 0 |
Rights | Copyright Torbjørn Pehrsen |
Saturation | 0 |
SaturationAdjustmentAqua | 0 |
SaturationAdjustmentBlue | 0 |
SaturationAdjustmentGreen | 0 |
SaturationAdjustmentMagenta | 0 |
SaturationAdjustmentOrange | 0 |
SaturationAdjustmentPurple | 0 |
SaturationAdjustmentRed | 0 |
SaturationAdjustmentYellow | 0 |
ScaleFactor35efl | 1.6 |
SceneCaptureType | Standard |
SerialNumber | 330109657 |
Shadows | 5 |
ShadowTint | 0 |
SharpenDetail | 25 |
SharpenEdgeMasking | 0 |
SharpenRadius | +1.0 |
Sharpness | 74 |
ShutterSpeed | 1/250 |
ShutterSpeedValue | 1/250 |
SidecarForExtension | CR2 |
Software | Adobe Photoshop Elements 6.0 Windows |
SplitToningBalance | 0 |
SplitToningHighlightHue | 0 |
SplitToningHighlightSaturation | 0 |
SplitToningShadowHue | 0 |
SplitToningShadowSaturation | 0 |
Tint | +21 |
ToneCurve | 0, 0, 32, 22, 64, 56, 128, 128, 192, 196, 255, 255 |
ToneCurveName | Medium Contrast |
URL_List | |
Version | 5.3 |
Vibrance | +50 |
VignetteAmount | 0 |
WhiteBalance | Auto |