Felt | Verdi |
AlreadyApplied | True |
Aperture | 7.0 |
ApertureValue | 7.0 |
BitsPerSample | 8 |
BlackClip | 3.796000 |
BlueHue | 0 |
BlueSaturation | 0 |
Brightness | +4 |
CameraProfile | Embedded |
ChromaticAberrationB | 0 |
ChromaticAberrationR | 0 |
Clarity | 0 |
ColorComponents | 3 |
ColorNoiseReduction | 27 |
ColorSaturation | 94 |
ColorSpace | Unknown (-1) |
ColorTemperature | 7 |
Contrast | +36 |
ConvertToGrayscale | False |
CreateDate | 2007:09:02 19:45:13+02:00 |
CreatorTool | Adobe Photoshop Lightroom |
DateTimeOriginal (1) | 2007:09:02 19:45:13+02:00 |
DateTimeOriginal | 2007:09:02 19:45:13 |
Defringe | 0 |
ExifImageHeight | 2348 |
ExifImageWidth | 3522 |
Exposure | 0.00 |
ExposureTime | 1/80 |
FillLight | 0 |
FNumber | 7.0 |
FocalLength | 30.0 mm |
FocalLength35efl | 30.0 mm |
Format | image/tiff |
Gamma | 1.000000 |
GreenHue | 0 |
GreenSaturation | 0 |
HasCrop | False |
HasSettings | True |
HighlightRecovery | 0 |
HighlightsSmoothing | 0 |
HueAdjustmentAqua | 0 |
HueAdjustmentBlue | 0 |
HueAdjustmentGreen | 0 |
HueAdjustmentMagenta | 0 |
HueAdjustmentOrange | 0 |
HueAdjustmentPurple | 0 |
HueAdjustmentRed | 0 |
HueAdjustmentYellow | 0 |
ImageHeight | 853 |
ImageSize | 1280x853 |
ImageWidth | 1280 |
IncrementalTemperature | -19 |
IncrementalTint | -10 |
ISO | 100 |
LightValue | 11.9 |
LuminanceAdjustmentAqua | 0 |
LuminanceAdjustmentBlue | 0 |
LuminanceAdjustmentGreen | 0 |
LuminanceAdjustmentMagenta | 0 |
LuminanceAdjustmentOrange | 0 |
LuminanceAdjustmentPurple | 0 |
LuminanceAdjustmentRed | 0 |
LuminanceAdjustmentYellow | 0 |
LuminanceSmoothing | 25 |
Luminosity | 4 |
Megapixels | 1.1 |
Method | Details Enhancer |
Microcontrast | 4 |
Microsmoothing | 11 |
Model | Canon EOS 30D |
ModifyDate (1) | 2008:10:04 01:52:34+02:00 |
ModifyDate | 2008:10:04 01:52:34 |
ParametricDarks | 0 |
ParametricHighlights | 0 |
ParametricHighlightSplit | 75 |
ParametricLights | 0 |
ParametricMidtoneSplit | 50 |
ParametricShadows | 0 |
ParametricShadowSplit | 25 |
ProfileDescription | Adobe RGB (1998) |
RedHue | 0 |
RedSaturation | 0 |
Saturation | +2 |
SaturationAdjustmentAqua | 0 |
SaturationAdjustmentBlue | -52 |
SaturationAdjustmentGreen | +2 |
SaturationAdjustmentMagenta | 0 |
SaturationAdjustmentOrange | 0 |
SaturationAdjustmentPurple | 0 |
SaturationAdjustmentRed | 0 |
SaturationAdjustmentYellow | +2 |
SaturationHighlights | -3 |
SaturationShadows | 6 |
Shadows | 0 |
ShadowsClipping | 15 |
ShadowsSmoothing | 0 |
ShadowTint | 0 |
SharpenDetail | 25 |
SharpenEdgeMasking | 0 |
SharpenRadius | +1.0 |
Sharpness | 0 |
ShutterSpeed | 1/80 |
ShutterSpeedValue | 1/80 |
Smoothing | Medium |
Software | Adobe Photoshop Lightroom |
SplitToningBalance | 0 |
SplitToningHighlightHue | 0 |
SplitToningHighlightSaturation | 0 |
SplitToningShadowHue | 0 |
SplitToningShadowSaturation | 0 |
Strength | 80 |
ToneCurve | 0, 0, 255, 255 |
ToneCurveName | Linear |
Version (1) | 2.5 |
Version | 4.4.1 |
Vibrance | 0 |
VignetteAmount | 0 |
WhiteBalance | Custom |
WhiteClip | 3.308350 |