Felt | Verdi |
AlreadyApplied | True |
Aperture | 16.0 |
ApertureValue | 16.0 |
BitsPerSample | 8 |
BlueHue | 0 |
BlueSaturation | 0 |
Brightness | 0 |
CameraProfile | ACR 2.4 |
ChromaticAberrationB | 0 |
ChromaticAberrationR | 0 |
CircleOfConfusion | 0.030 mm |
Clarity | 49 |
ColorComponents | 1 |
ColorSpace | sRGB |
ColorTemperature | 5085 |
Contrast | +19 |
ConvertToGrayscale | True |
CopyrightFlag | False |
CreateDate (1) | 2007:08:02 21:12:17+02:00 |
CreateDate | 2007:08:02 21:12:17 |
CreatorTool | Adobe Photoshop CS Macintosh |
CropAngle | -0.728984 |
CropBottom | 0.898329 |
CropHeight | 797 |
CropLeft | 0.050371 |
CropRight | 0.926728 |
CropTop | 0.049156 |
CropUnit | pixels |
CropWidth | 1200 |
CustomRendered | Normal |
DateTimeDigitized | 2007:08:02 21:12:17+02:00 |
DateTimeOriginal (1) | 2007:08:02 21:12:17+02:00 |
DateTimeOriginal | 2007:08:02 21:12:17 |
Defringe | 0 |
ExifImageHeight | 664 |
ExifImageWidth | 1000 |
Exposure | +0.68 |
ExposureCompensation | 0 |
ExposureMode | Auto |
ExposureProgram | Aperture-priority AE |
ExposureTime | 20 |
FillLight | 0 |
Firmware | 1.0.3 |
Flash | Off, Did not fire |
FlashCompensation | 0 |
FlashFired | False |
FlashFunction | False |
FlashMode | Off |
FlashRedEyeMode | False |
FlashReturn | No return detection |
FNumber | 16.0 |
FocalLength | 35.0 mm |
FocalLength35efl | 35.0 mm (35 mm equivalent: 35.1 mm) |
Format | image/jpeg |
FOV | 54.3 deg |
GrayMixerAqua | -20 |
GrayMixerBlue | +4 |
GrayMixerGreen | -23 |
GrayMixerMagenta | +5 |
GrayMixerOrange | -13 |
GrayMixerPurple | +12 |
GrayMixerRed | -5 |
GrayMixerYellow | -17 |
GreenHue | 0 |
GreenSaturation | 0 |
HasCrop | True |
HasSettings | True |
HighlightRecovery | 0 |
HyperfocalDistance | 2.55 m |
ImageHeight (1) | 797 |
ImageHeight | 664 |
ImageNumber | 5 |
ImageSize | 1000x664 |
ImageWidth (1) | 1200 |
ImageWidth | 1000 |
ISO | 100 |
Lens | EF35mm f/1.4L USM |
LensInfo | 35mm f/? |
LightValue | 3.7 |
LuminanceSmoothing | 0 |
Make | Canon |
MaxApertureValue | 1.4 |
Megapixels | 0.664 |
MeteringMode | Unknown |
Model | Canon EOS 5D |
ModifyDate (1) | 2007:09:09 21:10:28+02:00 |
ModifyDate | 2007:09:09 21:10:28 |
Orientation | Horizontal (normal) |
ParametricDarks | -17 |
ParametricHighlights | +34 |
ParametricHighlightSplit | 75 |
ParametricLights | -13 |
ParametricMidtoneSplit | 50 |
ParametricShadows | -28 |
ParametricShadowSplit | 25 |
ProfileDescription | sRGB IEC61966-2.1 |
RedHue | 0 |
RedSaturation | 0 |
ScaleFactor35efl | 1.0 |
SceneCaptureType | Standard |
SerialNumber | 730504271 |
Shadows | 9 |
ShadowTint | 0 |
SharpenDetail | 25 |
SharpenEdgeMasking | 0 |
SharpenRadius | +1.0 |
Sharpness | 78 |
ShutterSpeed | 20 |
ShutterSpeedValue | 20 |
Software | Adobe Photoshop CS Macintosh |
SplitToningBalance | 0 |
SplitToningHighlightHue | 0 |
SplitToningHighlightSaturation | 0 |
SplitToningShadowHue | 0 |
SplitToningShadowSaturation | 0 |
TimeZoneOffset | 2 2 |
Tint | +4 |
ToneCurve | 0, 0, 32, 22, 64, 56, 128, 128, 192, 196, 255, 255 |
ToneCurveName | Medium Contrast |
URL_List | |
Version | 1.0 |
VignetteAmount | 0 |
WhiteBalance (1) | Custom |
WhiteBalance | Auto |