Felt | Verdi |
AlreadyApplied | True |
Aperture | 10.0 |
ApertureValue | 10.0 |
Artist | Henry Leirvoll |
BitsPerSample | 8 |
BlueHue | 0 |
BlueSaturation | +18 |
Brightness | +19 |
By-line | Henry Leirvoll |
CameraProfile | ACR 2.4 |
ChromaticAberrationB | 0 |
ChromaticAberrationR | +95 |
CircleOfConfusion | 0.019 mm |
ColorComponents | 3 |
ColorMode | RGB |
ColorNoiseReduction | 25 |
ColorSpace (1) | Unknown (-1) |
ColorSpace | Uncalibrated |
ColorTemperature | 6000 |
Contrast | +100 |
ConvertToGrayscale | False |
CopyrightFlag | False |
CreateDate (1) | 2007:06:23 18:45:16+02:00 |
CreateDate | 2007:06:22 20:12:30 |
Creator | Henry Leirvoll |
CreatorTool | Adobe Photoshop CS3 Windows |
CropAngle | 0 |
CropBottom | 0.846715 |
CropHeight | 1739 |
CropLeft | 0.099757 |
CropRight | 1 |
CropTop | 0.10219 |
CropUnit | pixels |
CropWidth | 3154 |
CustomRendered | Normal |
DateTimeDigitized | 2007:06:22 20:12:30+02:00 |
DateTimeOriginal (1) | 2007:06:22 20:12:30+02:00 |
DateTimeOriginal | 2007:06:22 20:12:30 |
DerivedFrom | |
ExifImageHeight | 441 |
ExifImageWidth | 800 |
Exposure | -0.68 |
ExposureCompensation | 0 |
ExposureMode | Manual |
ExposureProgram | Manual |
ExposureTime | 1/800 |
FillLight | 8 |
Firmware | 1.1.0 |
Flash | Off, Did not fire |
FlashCompensation | 0 |
FlashFired | False |
FlashFunction | False |
FlashMode | Off |
FlashRedEyeMode | False |
FlashReturn | No return detection |
FNumber | 10.0 |
FocalLength | 105.0 mm |
FocalLength35efl | 105.0 mm (35 mm equivalent: 168.2 mm) |
Format | image/jpeg |
FOV | 12.2 deg |
GreenHue | 0 |
GreenSaturation | +11 |
HasCrop | True |
HasSettings | True |
HighlightRecovery | 100 |
HueAdjustmentAqua | 0 |
HueAdjustmentBlue | 0 |
HueAdjustmentGreen | 0 |
HueAdjustmentMagenta | 0 |
HueAdjustmentOrange | 0 |
HueAdjustmentPurple | 0 |
HueAdjustmentRed | 0 |
HueAdjustmentYellow | 0 |
HyperfocalDistance | 58.76 m |
ICCProfileName | Adobe RGB (1998) |
ImageHeight (1) | 1739 |
ImageHeight | 441 |
ImageNumber | 203 |
ImageSize | 800x441 |
ImageWidth (1) | 3154 |
ImageWidth | 800 |
ISO | 800 |
Lens | 24.0-105.0 mm |
LensInfo | 24-105mm f/? |
LightValue | 13.3 |
LuminanceAdjustmentAqua | 0 |
LuminanceAdjustmentBlue | 0 |
LuminanceAdjustmentGreen | 0 |
LuminanceAdjustmentMagenta | 0 |
LuminanceAdjustmentOrange | 0 |
LuminanceAdjustmentPurple | 0 |
LuminanceAdjustmentRed | 0 |
LuminanceAdjustmentYellow | 0 |
LuminanceSmoothing | 0 |
Make | Canon |
Megapixels | 0.353 |
MeteringMode | Average |
Model | Canon EOS 20D |
ModifyDate (1) | 2007:06:23 18:45:16+02:00 |
ModifyDate | 2007:06:23 18:45:16 |
Orientation | Horizontal (normal) |
OwnerName | Henry Leirvoll |
ParametricDarks | 0 |
ParametricHighlights | 0 |
ParametricHighlightSplit | 75 |
ParametricLights | 0 |
ParametricMidtoneSplit | 50 |
ParametricShadows | 0 |
ParametricShadowSplit | 25 |
ProfileDescription | Adobe RGB (1998) |
RedHue | 0 |
RedSaturation | +15 |
Saturation | 0 |
SaturationAdjustmentAqua | 0 |
SaturationAdjustmentBlue | 0 |
SaturationAdjustmentGreen | 0 |
SaturationAdjustmentMagenta | 0 |
SaturationAdjustmentOrange | 0 |
SaturationAdjustmentPurple | 0 |
SaturationAdjustmentRed | 0 |
SaturationAdjustmentYellow | 0 |
ScaleFactor35efl | 1.6 |
SceneCaptureType | Standard |
SerialNumber | 730422101 |
Shadows | 25 |
ShadowTint | 0 |
Sharpness | 25 |
ShutterSpeed | 1/800 |
ShutterSpeedValue | 1/800 |
Software | Adobe Photoshop CS3 Windows |
SplitToningBalance | 0 |
SplitToningHighlightHue | 0 |
SplitToningHighlightSaturation | 0 |
SplitToningShadowHue | 0 |
SplitToningShadowSaturation | 0 |
Tint | +10 |
ToneCurve | 0, 0, 32, 22, 64, 56, 128, 128, 192, 196, 255, 255 |
ToneCurveName | Medium Contrast |
URL_List | |
Version | 1.0 |
Vibrance | +86 |
VignetteAmount | 0 |
WhiteBalance | Auto |