Felt | Verdi |
AlreadyApplied | True |
Aperture | 11.0 |
ApertureValue | 11.0 |
ApproximateFocusDistance | 4294967295 |
Artist | Sven E Fredriksen |
AutoLateralCA | 1 |
BitsPerSample | 8 |
Blacks2012 | 0 |
BlueHue | 0 |
BlueSaturation | +18 |
By-line | Sven E Fredriksen |
CameraProfile | Adobe Standard |
CircleOfConfusion | 0.005 mm |
Clarity2012 | +25 |
ColorComponents | 3 |
ColorNoiseReduction | 25 |
ColorNoiseReductionDetail | 50 |
ColorNoiseReductionSmoothness | 50 |
ColorSpace | sRGB |
ColorTemperature | 5500 |
ColorTransform | YCbCr |
Contrast2012 | +5 |
ConvertToGrayscale | False |
Copyright | Copyright Sven E Fredriksen,All rights reserved.tlf004790557417 |
CopyrightNotice | Copyright Sven E Fredriksen,All rights reserved.tlf004790557417 |
CreateDate (1) | 2020:06:23 01:58:53.00+01:00 |
CreateDate | 2020:06:23 01:58:53 |
Creator | Sven E Fredriksen |
CreatorTool | Adobe Photoshop Lightroom Classic 9.3 (Macintosh) |
CropAngle | 0 |
CropBottom | 1 |
CropConstrainToWarp | 0 |
CropLeft | 0.058244 |
CropRight | 1 |
CropTop | 0.058244 |
CustomRendered | Normal |
DateCreated (1) | 2020:06:23 |
DateCreated | 2020:06:23 01:58:53.00+01:00 |
DateTimeOriginal | 2020:06:23 01:58:53 |
DefringeGreenAmount | 0 |
DefringeGreenHueHi | 60 |
DefringeGreenHueLo | 40 |
DefringePurpleAmount | 0 |
DefringePurpleHueHi | 70 |
DefringePurpleHueLo | 30 |
Dehaze | 0 |
DistortionCorrectionAlreadyApplied | True |
DOF | inf (15.56 m - inf) |
Exposure2012 | +0.25 |
ExposureCompensation | 0 |
ExposureMode | Manual |
ExposureProgram | Manual |
ExposureTime | 1/250 |
Firmware | 1.2.1 |
Flash | Off, Did not fire |
FlashCompensation | 0 |
FNumber | 11.0 |
FocalLength | 28.0 mm |
FocalLength35efl | 28.0 mm (35 mm equivalent: 183.7 mm) |
Format | image/jpeg |
FOV | 11.2 deg |
GrainAmount | 0 |
GreenHue | 0 |
GreenSaturation | 0 |
HasCrop | True |
HasSettings | True |
Highlights2012 | -40 |
HueAdjustmentAqua | 0 |
HueAdjustmentBlue | 0 |
HueAdjustmentGreen | 0 |
HueAdjustmentMagenta | 0 |
HueAdjustmentOrange | 0 |
HueAdjustmentPurple | 0 |
HueAdjustmentRed | 0 |
HueAdjustmentYellow | 0 |
HyperfocalDistance | 15.56 m |
ImageHeight | 683 |
ImageNumber | 0 |
ImageSize | 1024x683 |
ImageWidth | 1024 |
ISO | 400 |
Keywords | Breielvtinden, Forsvasstinden, Grytting, Hadsel, Jubelbakktinden, Midnattsol, Ol Hansatinden, Skata |
LateralChromaticAberrationCorrectionAlreadyApplied | True |
Lens | EF16-35mm f/4L IS USM |
LensID (1) | 507 |
LensID | Canon EF 16-35mm f/4L IS USM |
LensInfo | 16-35mm f/? |
LensManualDistortionAmount | 0 |
LensModel | EF16-35mm f/4L IS USM |
LensProfileChromaticAberrationScale | 100 |
LensProfileDistortionScale | 100 |
LensProfileEnable | 1 |
LensProfileFilename | Canon EOS-1Ds Mark III (Canon EF 16-35mm f4L IS USM v2) - RAW.lcp |
LensProfileName | Adobe (Canon EF 16-35mm f/4L IS USM) v2 |
LensProfileSetup | Auto |
LensProfileVignettingScale | 100 |
LensSerialNumber | 5160000758 |
LightValue | 12.9 |
LookAmount | 1.000000 |
LookGroup | Profiles |
LookName | Adobe Landscape |
LookParametersCameraProfile | Adobe Standard |
LookParametersClarity2012 | +10 |
LookParametersConvertToGrayscale | False |
LookParametersHighlights2012 | -12 |
LookParametersLookTable | 0B3BFB5CFB7DBF7FF175E98F24D316B0 |
LookParametersProcessVersion | 11.0 |
LookParametersShadows2012 | +12 |
LookParametersToneCurvePV2012 | 0, 0, 64, 60, 128, 128, 192, 196, 255, 255 |
LookParametersVersion | 12.3 |
LookSupportsAmount | false |
LookSupportsMonochrome | false |
LookSupportsOutputReferred | false |
LuminanceAdjustmentAqua | 0 |
LuminanceAdjustmentBlue | 0 |
LuminanceAdjustmentGreen | 0 |
LuminanceAdjustmentMagenta | 0 |
LuminanceAdjustmentOrange | -5 |
LuminanceAdjustmentPurple | 0 |
LuminanceAdjustmentRed | 0 |
LuminanceAdjustmentYellow | -26 |
LuminanceSmoothing | 0 |
Make | Canon |
MaxApertureValue | 4.0 |
Megapixels | 0.699 |
MeteringMode | Multi-segment |
Model | Canon EOS 5D Mark IV |
ModifyDate (1) | 2020:06:26 23:23:45+02:00 |
ModifyDate | 2020:06:26 23:23:45 |
OverrideLookVignette | False |
PaintCorrectionActive | true |
PaintCorrectionAmount | 1.000000 |
PaintCorrectionBrightness | 0.000000 |
PaintCorrectionClarity2012 (1) | 0.026547 |
PaintCorrectionClarity2012 | 0.261302 |
PaintCorrectionContrast2012 (1) | 0.000000 |
PaintCorrectionContrast2012 | 0.100197 |
PaintCorrectionCorrectionRangeMaskColorAmount | 0.500000 |
PaintCorrectionCorrectionRangeMaskDepthFeather | 0.500000 |
PaintCorrectionCorrectionRangeMaskDepthMax | 1.000000 |
PaintCorrectionCorrectionRangeMaskDepthMin | 0.000000 |
PaintCorrectionCorrectionRangeMaskLumFeather | 0.500000 |
PaintCorrectionCorrectionRangeMaskLumMax | 1.000000 |
PaintCorrectionCorrectionRangeMaskLumMin | 0.000000 |
PaintCorrectionCorrectionRangeMaskType | 0 |
PaintCorrectionCorrectionRangeMaskVersion | +2 |
PaintCorrectionDefringe | 0.000000 |
PaintCorrectionExposure2012 | -0.025106 |
PaintCorrectionHighlights2012 | -0.047558 |
PaintCorrectionHue | 240.000000 |
PaintCorrectionLocalBlacks2012 | 0.000000 |
PaintCorrectionLocalDehaze (1) | 0.022186 |
PaintCorrectionLocalDehaze | 0.000000 |
PaintCorrectionLocalHue | 0.010190 |
PaintCorrectionLocalTexture | 0.000000 |
PaintCorrectionLocalWhites2012 (1) | 0.053322 |
PaintCorrectionLocalWhites2012 | -0.000986 |
PaintCorrectionLuminanceNoise | 0.000000 |
PaintCorrectionMaskCenterWeight | 0.049224 |
PaintCorrectionMaskFlow | 0.689156 |
PaintCorrectionMaskRadius (1) | 0.145470 |
PaintCorrectionMaskRadius (10) | 0.106810 |
PaintCorrectionMaskRadius (11) | 0.106803 |
PaintCorrectionMaskRadius (12) | 0.107213 |
PaintCorrectionMaskRadius (13) | 0.107333 |
PaintCorrectionMaskRadius (14) | 0.160993 |
PaintCorrectionMaskRadius (15) | 0.159675 |
PaintCorrectionMaskRadius (16) | 0.160366 |
PaintCorrectionMaskRadius (17) | 0.161583 |
PaintCorrectionMaskRadius (18) | 0.159451 |
PaintCorrectionMaskRadius (19) | 0.160824 |
PaintCorrectionMaskRadius (2) | 0.144151 |
PaintCorrectionMaskRadius (20) | 0.159756 |
PaintCorrectionMaskRadius (21) | 0.159283 |
PaintCorrectionMaskRadius (22) | 0.159707 |
PaintCorrectionMaskRadius (23) | 0.159515 |
PaintCorrectionMaskRadius (24) | 0.159155 |
PaintCorrectionMaskRadius (25) | 0.169755 |
PaintCorrectionMaskRadius (26) | 0.175463 |
PaintCorrectionMaskRadius (27) | 0.183631 |
PaintCorrectionMaskRadius (28) | 0.183115 |
PaintCorrectionMaskRadius (29) | 0.183727 |
PaintCorrectionMaskRadius (3) | 0.153313 |
PaintCorrectionMaskRadius (30) | 0.136972 |
PaintCorrectionMaskRadius (31) | 0.136299 |
PaintCorrectionMaskRadius (4) | 0.151625 |
PaintCorrectionMaskRadius (5) | 0.121248 |
PaintCorrectionMaskRadius (6) | 0.121719 |
PaintCorrectionMaskRadius (7) | 0.108537 |
PaintCorrectionMaskRadius (8) | 0.107318 |
PaintCorrectionMaskRadius (9) | 0.106924 |
PaintCorrectionMaskRadius | 0.137080 |
PaintCorrectionMaskValue | 0.601600 |
PaintCorrectionMaskWhat | Mask/Paint |
PaintCorrectionMoire | 0.000000 |
PaintCorrectionSaturation (3) | 0.001024 |
PaintCorrectionSaturation | 0.000000 |
PaintCorrectionShadows2012 | 0.000000 |
PaintCorrectionSharpness | 0.002920 |
PaintCorrectionTemperature | 0.000000 |
PaintCorrectionTint | 0.000000 |
PaintCorrectionWhat | Correction |
ParametricDarks | 0 |
ParametricHighlights | 0 |
ParametricHighlightSplit | 75 |
ParametricLights | 0 |
ParametricMidtoneSplit | 50 |
ParametricShadows | 0 |
ParametricShadowSplit | 25 |
PerspectiveAspect | 0 |
PerspectiveHorizontal | 0 |
PerspectiveRotate | 0.0 |
PerspectiveScale | 100 |
PerspectiveUpright | 0 |
PerspectiveVertical | 0 |
PerspectiveX | 0.00 |
PerspectiveY | 0.00 |
PostCropVignetteAmount | 0 |
PreservedFileName | _F0A1572.CR2 |
ProcessVersion | 11.0 |
ProfileDescription | sRGB IEC61966-2.1 |
Rating | 5 |
RawFileName | _F0A1572.CR2 |
RecommendedExposureIndex | 400 |
RedHue | 0 |
RedSaturation | +5 |
Rights | Copyright Sven E Fredriksen,All rights reserved.tlf004790557417 |
Saturation | +4 |
SaturationAdjustmentAqua | +7 |
SaturationAdjustmentBlue | +20 |
SaturationAdjustmentGreen | +1 |
SaturationAdjustmentMagenta | 0 |
SaturationAdjustmentOrange | 0 |
SaturationAdjustmentPurple | 0 |
SaturationAdjustmentRed | 0 |
SaturationAdjustmentYellow | +18 |
ScaleFactor35efl | 6.6 |
SceneCaptureType | Standard |
SensitivityType | Recommended Exposure Index |
SerialNumber | 083054000150 |
Shadows2012 | +16 |
ShadowTint | 0 |
SharpenDetail | 25 |
SharpenEdgeMasking | 0 |
SharpenRadius | +1.0 |
Sharpness | 40 |
ShutterSpeed | 1/250 |
ShutterSpeedValue | 1/250 |
Software | Adobe Photoshop Lightroom Classic 9.3 (Macintosh) |
SplitToningBalance | 0 |
SplitToningHighlightHue | 3 |
SplitToningHighlightSaturation | 12 |
SplitToningShadowHue | 0 |
SplitToningShadowSaturation | 0 |
Subject | Breielvtinden, Forsvasstinden, Grytting, Hadsel, Jubelbakktinden, Midnattsol, Ol Hansatinden, Skata |
Texture | 0 |
Tint | +10 |
ToneCurve | 0, 0, 255, 255 |
ToneCurveBlue | 0, 0, 255, 255 |
ToneCurveGreen | 0, 0, 255, 255 |
ToneCurveName | Linear |
ToneCurveName2012 | Custom |
ToneCurvePV2012 | 0, 0, 62, 63, 134, 123, 200, 185, 255, 255 |
ToneCurvePV2012Blue | 0, 0, 255, 255 |
ToneCurvePV2012Green | 0, 0, 255, 255 |
ToneCurvePV2012Red | 0, 0, 255, 255 |
ToneCurveRed | 0, 0, 255, 255 |
ToneMapStrength | 0 |
Version | 12.3 |
Vibrance | +12 |
VignetteAmount | 0 |
VignetteCorrectionAlreadyApplied | True |
WhiteBalance (1) | Daylight |
WhiteBalance | Manual |
Whites2012 | +31 |