Felt | Verdi |
AlreadyApplied | True |
Aperture | 5.0 |
ApertureValue | 5.0 |
AutoLateralCA | 1 |
AutoWhiteVersion | 134348800 |
BitsPerSample | 8 |
Blacks2012 | -25 |
BlueHue | 0 |
BlueSaturation | 0 |
BrightnessValue | 0.57 |
CameraProfile | Camera Velvia/VIVID |
CircleOfConfusion | 0.020 mm |
Clarity2012 | +32 |
ColorComponents | 3 |
ColorNoiseReduction | 25 |
ColorNoiseReductionDetail | 50 |
ColorNoiseReductionSmoothness | 50 |
ColorSpace | sRGB |
ColorTemperature | 5950 |
ColorTransform | YCbCr |
Contrast2012 | +61 |
ConvertToGrayscale | False |
CreateDate | 2018:01:12 17:04:04 |
CreatorTool | Adobe Photoshop Lightroom 6.12 (Macintosh) |
CropAngle | -0.067754 |
CropBottom | 0.993985 |
CropConstrainToWarp | 0 |
CropLeft | 0.282231 |
CropRight | 0.993542 |
CropTop | 0.005969 |
CustomRendered | Normal |
DateCreated (1) | 2018:01:12 |
DateCreated | 2018:01:12 17:04:04 |
DateTimeOriginal | 2018:01:12 17:04:04 |
DefringeGreenAmount | 0 |
DefringeGreenHueHi | 60 |
DefringeGreenHueLo | 40 |
DefringePurpleAmount | 0 |
DefringePurpleHueHi | 70 |
DefringePurpleHueLo | 30 |
Dehaze | +21 |
DistortionCorrectionAlreadyApplied | True |
Exposure2012 | +1.55 |
ExposureCompensation | 0 |
ExposureMode | Manual |
ExposureProgram | Manual |
ExposureTime | 1/10 |
Flash | No Flash |
FNumber | 5.0 |
FocalLength | 121.8 mm |
FocalLength35efl | 121.8 mm (35 mm equivalent: 183.0 mm) |
FocalLengthIn35mmFormat | 183 mm |
Format | image/jpeg |
FOV | 11.2 deg |
GrainAmount | 0 |
GreenHue | 0 |
GreenSaturation | 0 |
HasCrop | True |
HasSettings | True |
Highlights2012 | +3 |
HueAdjustmentAqua | 0 |
HueAdjustmentBlue | 0 |
HueAdjustmentGreen | 0 |
HueAdjustmentMagenta | 0 |
HueAdjustmentOrange | 0 |
HueAdjustmentPurple | 0 |
HueAdjustmentRed | 0 |
HueAdjustmentYellow | 0 |
HyperfocalDistance | 148.37 m |
ImageHeight | 5669 |
ImageSize | 6107x5669 |
ImageWidth | 6107 |
ISO | 200 |
LateralChromaticAberrationCorrectionAlreadyApplied | True |
Lens | XF55-200mmF3.5-4.8 R LM OIS |
LensInfo | 55-200mm f/3.5-4.8 |
LensMake | FUJIFILM |
LensManualDistortionAmount | 0 |
LensModel | XF55-200mmF3.5-4.8 R LM OIS |
LensProfileEnable | 0 |
LensProfileSetup | LensDefaults |
LensSerialNumber | 75A10984 |
LightSource | Unknown |
LightValue | 7.0 |
LuminanceAdjustmentAqua | 0 |
LuminanceAdjustmentBlue | 0 |
LuminanceAdjustmentGreen | 0 |
LuminanceAdjustmentMagenta | 0 |
LuminanceAdjustmentOrange | 0 |
LuminanceAdjustmentPurple | 0 |
LuminanceAdjustmentRed | 0 |
LuminanceAdjustmentYellow | 0 |
LuminanceNoiseReductionContrast | 0 |
LuminanceNoiseReductionDetail | 50 |
LuminanceSmoothing | 40 |
Make | FUJIFILM |
MaxApertureValue | 3.5 |
Megapixels | 34.6 |
MeteringMode | Multi-segment |
Model | X-T2 |
ModifyDate (1) | 2018:01:14 17:40:32+01:00 |
ModifyDate | 2018:01:14 17:40:32 |
ParametricDarks | 0 |
ParametricHighlights | 0 |
ParametricHighlightSplit | 75 |
ParametricLights | 0 |
ParametricMidtoneSplit | 50 |
ParametricShadows | 0 |
ParametricShadowSplit | 25 |
PerspectiveAspect | 0 |
PerspectiveHorizontal | 0 |
PerspectiveRotate | 0.0 |
PerspectiveScale | 100 |
PerspectiveUpright | 0 |
PerspectiveVertical | 0 |
PerspectiveX | 0.00 |
PerspectiveY | 0.00 |
PostCropVignetteAmount | 0 |
ProcessVersion | 6.7 |
ProfileDescription | sRGB IEC61966-2.1 |
RedHue | 0 |
RedSaturation | 0 |
Saturation | +1 |
SaturationAdjustmentAqua | 0 |
SaturationAdjustmentBlue | 0 |
SaturationAdjustmentGreen | 0 |
SaturationAdjustmentMagenta | 0 |
SaturationAdjustmentOrange | 0 |
SaturationAdjustmentPurple | 0 |
SaturationAdjustmentRed | 0 |
SaturationAdjustmentYellow | 0 |
ScaleFactor35efl | 1.5 |
SceneCaptureType | Standard |
SceneType | Directly photographed |
SensingMethod | One-chip color area |
SensitivityType | Standard Output Sensitivity |
SerialNumber | 64M55925 |
Shadows2012 | +9 |
ShadowTint | 0 |
SharpenDetail | 25 |
SharpenEdgeMasking | 41 |
SharpenRadius | +1.0 |
Sharpness (1) | 56 |
Sharpness | Normal |
ShutterSpeed | 1/10 |
ShutterSpeedValue | 1/10 |
Software | Adobe Photoshop Lightroom 6.12 (Macintosh) |
SplitToningBalance | 0 |
SplitToningHighlightHue | 0 |
SplitToningHighlightSaturation | 0 |
SplitToningShadowHue | 0 |
SplitToningShadowSaturation | 0 |
SubjectDistanceRange | Unknown |
Tint | +20 |
ToneCurve | 0, 0, 255, 255 |
ToneCurveBlue | 0, 0, 255, 255 |
ToneCurveGreen | 0, 0, 255, 255 |
ToneCurveName | Linear |
ToneCurveName2012 | Linear |
ToneCurvePV2012 | 0, 0, 255, 255 |
ToneCurvePV2012Blue | 0, 0, 255, 255 |
ToneCurvePV2012Green | 0, 0, 255, 255 |
ToneCurvePV2012Red | 0, 0, 255, 255 |
ToneCurveRed | 0, 0, 255, 255 |
ToneMapStrength | 0 |
Version | 9.12 |
Vibrance | -1 |
VignetteAmount | 0 |
VignetteCorrectionAlreadyApplied | True |
WhiteBalance (1) | As Shot |
WhiteBalance | Auto |
Whites2012 | +19 |