Felt | Verdi |
AlreadyApplied | True |
AutoLateralCA | 0 |
AutoWhiteVersion | 134348800 |
BitsPerSample | 8 |
Blacks2012 | -19 |
BlueHue | 0 |
BlueSaturation | 0 |
CameraProfile | Embedded |
CircGradBasedCorrActive | true |
CircGradBasedCorrAmount | 1.000000 |
CircGradBasedCorrBrightness | 0.000000 |
CircGradBasedCorrClarity2012 (1) | 0.311257 |
CircGradBasedCorrClarity2012 | 0.000000 |
CircGradBasedCorrContrast2012 (1) | 0.277788 |
CircGradBasedCorrContrast2012 | 0.000000 |
CircGradBasedCorrDefringe | 0.000000 |
CircGradBasedCorrExposure2012 (1) | 0.006658 |
CircGradBasedCorrExposure2012 | 0.000000 |
CircGradBasedCorrHighlights2012 (1) | 0.225675 |
CircGradBasedCorrHighlights2012 (2) | 0.478161 |
CircGradBasedCorrHighlights2012 | 0.223810 |
CircGradBasedCorrHue | 0.000000 |
CircGradBasedCorrLocalBlacks2012 (1) | -0.011186 |
CircGradBasedCorrLocalBlacks2012 (2) | -0.052379 |
CircGradBasedCorrLocalBlacks2012 | 0.000000 |
CircGradBasedCorrLocalDehaze (2) | 0.009233 |
CircGradBasedCorrLocalDehaze | 0.000000 |
CircGradBasedCorrLocalWhites2012 (1) | 0.125799 |
CircGradBasedCorrLocalWhites2012 (2) | 0.097834 |
CircGradBasedCorrLocalWhites2012 | 0.133878 |
CircGradBasedCorrLuminanceNoise | 0.000000 |
CircGradBasedCorrMaskAngle (1) | 19.613800 |
CircGradBasedCorrMaskAngle (2) | 0.000000 |
CircGradBasedCorrMaskAngle | 18.588200 |
CircGradBasedCorrMaskBottom (1) | 1.752900 |
CircGradBasedCorrMaskBottom (2) | 0.627950 |
CircGradBasedCorrMaskBottom | 1.102490 |
CircGradBasedCorrMaskFeather | +50 |
CircGradBasedCorrMaskFlipped | true |
CircGradBasedCorrMaskLeft (1) | 0.118734 |
CircGradBasedCorrMaskLeft (2) | 0.279616 |
CircGradBasedCorrMaskLeft | 0.236810 |
CircGradBasedCorrMaskMidpoint | +50 |
CircGradBasedCorrMaskRight (1) | 0.617626 |
CircGradBasedCorrMaskRight (2) | 0.674083 |
CircGradBasedCorrMaskRight | 0.506024 |
CircGradBasedCorrMaskRoundness | 0 |
CircGradBasedCorrMaskTop (1) | 0.171756 |
CircGradBasedCorrMaskTop (2) | 0.318576 |
CircGradBasedCorrMaskTop | 0.146647 |
CircGradBasedCorrMaskValue | 1.000000 |
CircGradBasedCorrMaskVersion | +2 |
CircGradBasedCorrMaskWhat | Mask/CircularGradient |
CircGradBasedCorrMoire | 0.000000 |
CircGradBasedCorrSaturation | 0.000000 |
CircGradBasedCorrShadows2012 (1) | -0.200107 |
CircGradBasedCorrShadows2012 | 0.000000 |
CircGradBasedCorrSharpness | 0.000000 |
CircGradBasedCorrTemperature | 0.000000 |
CircGradBasedCorrTint | 0.000000 |
CircGradBasedCorrWhat | Correction |
Clarity2012 | -42 |
ColorComponents | 3 |
ColorNoiseReduction | 0 |
ColorSpace | sRGB |
ColorTransform | YCbCr |
Contrast2012 | +30 |
ConvertToGrayscale | False |
CreateDate (1) | 2017:02:26 14:26:02+01:00 |
CreateDate | 2017:02:26 14:26:02 |
CreatorTool | Adobe Photoshop Lightroom 6.7 (Macintosh) |
CropAngle | 0 |
CropBottom | 0.944441 |
CropConstrainToWarp | 0 |
CropLeft | 0.069713 |
CropRight | 0.916944 |
CropTop | 0.046004 |
DefringeGreenAmount | 0 |
DefringeGreenHueHi | 60 |
DefringeGreenHueLo | 40 |
DefringePurpleAmount | 0 |
DefringePurpleHueHi | 70 |
DefringePurpleHueLo | 30 |
Dehaze | 0 |
Exposure2012 | -0.55 |
Format | image/jpeg |
GradientBasedCorrActive | true |
GradientBasedCorrAmount | 1.000000 |
GradientBasedCorrBrightness | 0.000000 |
GradientBasedCorrClarity2012 | 0.000000 |
GradientBasedCorrContrast2012 | 0.000000 |
GradientBasedCorrDefringe | 0.000000 |
GradientBasedCorrExposure2012 (1) | 0.008434 |
GradientBasedCorrExposure2012 | 0.042614 |
GradientBasedCorrHighlights2012 | -0.000908 |
GradientBasedCorrHue | 0.000000 |
GradientBasedCorrLocalBlacks2012 | 0.000000 |
GradientBasedCorrLocalDehaze | 0.009233 |
GradientBasedCorrLocalWhites2012 | 0.004179 |
GradientBasedCorrLuminanceNoise | 0.000000 |
GradientBasedCorrMaskFullX (1) | 0.558392 |
GradientBasedCorrMaskFullX | 0.553184 |
GradientBasedCorrMaskFullY (1) | 0.417785 |
GradientBasedCorrMaskFullY | 0.906334 |
GradientBasedCorrMaskValue | 1.000000 |
GradientBasedCorrMaskWhat | Mask/Gradient |
GradientBasedCorrMaskZeroX (1) | 0.546623 |
GradientBasedCorrMaskZeroX | 0.550421 |
GradientBasedCorrMaskZeroY (1) | 0.170186 |
GradientBasedCorrMaskZeroY | 0.790582 |
GradientBasedCorrMoire | 0.000000 |
GradientBasedCorrSaturation (1) | 0.150213 |
GradientBasedCorrSaturation | 0.000000 |
GradientBasedCorrShadows2012 | 0.000000 |
GradientBasedCorrSharpness | 0.000000 |
GradientBasedCorrTemperature | 0.000000 |
GradientBasedCorrTint | 0.000000 |
GradientBasedCorrWhat | Correction |
GrainAmount | 0 |
GreenHue | 0 |
GreenSaturation | 0 |
HasCrop | True |
HasExtendedXMP | DD382CCCCAA4927D87D0BA558F671C96 |
HasSettings | True |
Highlights2012 | -3 |
HueAdjustmentAqua | 0 |
HueAdjustmentBlue | 0 |
HueAdjustmentGreen | 0 |
HueAdjustmentMagenta | 0 |
HueAdjustmentOrange | 0 |
HueAdjustmentPurple | 0 |
HueAdjustmentRed | 0 |
HueAdjustmentYellow | 0 |
ImageHeight | 7187 |
ImageSize | 5083x7187 |
ImageWidth | 5083 |
IncrementalTemperature | +4 |
IncrementalTint | 0 |
LensManualDistortionAmount | 0 |
LensProfileEnable | 0 |
LensProfileSetup | LensDefaults |
LuminanceAdjustmentAqua | 0 |
LuminanceAdjustmentBlue | -19 |
LuminanceAdjustmentGreen | 0 |
LuminanceAdjustmentMagenta | 0 |
LuminanceAdjustmentOrange | 0 |
LuminanceAdjustmentPurple | 0 |
LuminanceAdjustmentRed | 0 |
LuminanceAdjustmentYellow | 0 |
LuminanceSmoothing | 0 |
Megapixels | 36.5 |
ModifyDate (1) | 2017:02:26 17:24:29+01:00 |
ModifyDate | 2017:02:26 17:24:29 |
PaintCorrectionActive | true |
PaintCorrectionAmount | 1.000000 |
PaintCorrectionBrightness | 0.000000 |
PaintCorrectionClarity2012 (2) | 0.000000 |
PaintCorrectionClarity2012 (5) | 0.104759 |
PaintCorrectionClarity2012 | 0.107422 |
PaintCorrectionContrast2012 (3) | 0.245117 |
PaintCorrectionContrast2012 (5) | 0.111417 |
PaintCorrectionContrast2012 | 0.000000 |
PaintCorrectionDefringe | 0.000000 |
PaintCorrectionExposure2012 (1) | 0.006658 |
PaintCorrectionExposure2012 (2) | 0.249734 |
PaintCorrectionExposure2012 (3) | -0.100675 |
PaintCorrectionExposure2012 (6) | 0.366477 |
PaintCorrectionExposure2012 | 0.000000 |
PaintCorrectionHighlights2012 (1) | 0.480025 |
PaintCorrectionHighlights2012 (4) | -0.199308 |
PaintCorrectionHighlights2012 (5) | 0.351030 |
PaintCorrectionHighlights2012 (6) | -0.000908 |
PaintCorrectionHighlights2012 | 0.143999 |
PaintCorrectionHue | 0.000000 |
PaintCorrectionLocalBlacks2012 (3) | 0.016246 |
PaintCorrectionLocalBlacks2012 | 0.000000 |
PaintCorrectionLocalDehaze | 0.009233 |
PaintCorrectionLocalWhites2012 (1) | 0.147106 |
PaintCorrectionLocalWhites2012 (3) | -0.239702 |
PaintCorrectionLocalWhites2012 (6) | 0.119673 |
PaintCorrectionLocalWhites2012 | 0.004179 |
PaintCorrectionLuminanceNoise | 0.000000 |
PaintCorrectionMaskCenterWeight | 0.000000 |
PaintCorrectionMaskFlow | 1.000000 |
PaintCorrectionMaskRadius (1) | 0.207257 |
PaintCorrectionMaskRadius (101) | 0.007525 |
PaintCorrectionMaskRadius (113) | 0.013651 |
PaintCorrectionMaskRadius (143) | 0.050545 |
PaintCorrectionMaskRadius (188) | 0.063503 |
PaintCorrectionMaskRadius (197) | 0.032998 |
PaintCorrectionMaskRadius (201) | 0.067984 |
PaintCorrectionMaskRadius (202) | 0.030100 |
PaintCorrectionMaskRadius (204) | 0.071447 |
PaintCorrectionMaskRadius (207) | 0.035943 |
PaintCorrectionMaskRadius (211) | 0.029169 |
PaintCorrectionMaskRadius (215) | 0.101936 |
PaintCorrectionMaskRadius (218) | 0.092282 |
PaintCorrectionMaskRadius (222) | 0.064276 |
PaintCorrectionMaskRadius (227) | 0.020791 |
PaintCorrectionMaskRadius (52) | 0.062944 |
PaintCorrectionMaskRadius (53) | 0.128623 |
PaintCorrectionMaskRadius (66) | 0.086791 |
PaintCorrectionMaskRadius (70) | 0.028461 |
PaintCorrectionMaskRadius (72) | 0.053899 |
PaintCorrectionMaskRadius (75) | 0.073451 |
PaintCorrectionMaskRadius (86) | 0.060199 |
PaintCorrectionMaskRadius | 0.046403 |
PaintCorrectionMaskValue | 1.000000 |
PaintCorrectionMaskWhat | Mask/Paint |
PaintCorrectionMoire | 0.000000 |
PaintCorrectionSaturation (7) | -0.027521 |
PaintCorrectionSaturation (9) | 0.201705 |
PaintCorrectionSaturation | 0.000000 |
PaintCorrectionShadows2012 (2) | 0.154119 |
PaintCorrectionShadows2012 (4) | -0.170011 |
PaintCorrectionShadows2012 (5) | 0.153409 |
PaintCorrectionShadows2012 | 0.000000 |
PaintCorrectionSharpness (5) | 0.207031 |
PaintCorrectionSharpness | 0.000000 |
PaintCorrectionTemperature (1) | 0.005238 |
PaintCorrectionTemperature (2) | 0.082120 |
PaintCorrectionTemperature (3) | 0.038441 |
PaintCorrectionTemperature (4) | -0.059126 |
PaintCorrectionTemperature (5) | 0.027788 |
PaintCorrectionTemperature | 0.000000 |
PaintCorrectionTint (1) | 0.021839 |
PaintCorrectionTint (2) | 0.015803 |
PaintCorrectionTint (3) | 0.089933 |
PaintCorrectionTint (4) | 0.028764 |
PaintCorrectionTint (5) | 0.036577 |
PaintCorrectionTint | 0.000000 |
PaintCorrectionWhat | Correction |
ParametricDarks | 0 |
ParametricHighlights | 0 |
ParametricHighlightSplit | 75 |
ParametricLights | -5 |
ParametricMidtoneSplit | 50 |
ParametricShadows | 0 |
ParametricShadowSplit | 25 |
PerspectiveAspect | 0 |
PerspectiveHorizontal | 0 |
PerspectiveRotate | 0.0 |
PerspectiveScale | 100 |
PerspectiveUpright | 0 |
PerspectiveVertical | 0 |
PerspectiveX | 0.00 |
PerspectiveY | 0.00 |
PostCropVignetteAmount | 0 |
ProcessVersion | 6.7 |
ProfileDescription | sRGB IEC61966-2.1 |
Rating | 5 |
RedHue | 0 |
RedSaturation | 0 |
Saturation | 0 |
SaturationAdjustmentAqua | 0 |
SaturationAdjustmentBlue | -3 |
SaturationAdjustmentGreen | 0 |
SaturationAdjustmentMagenta | 0 |
SaturationAdjustmentOrange | 0 |
SaturationAdjustmentPurple | 0 |
SaturationAdjustmentRed | 0 |
SaturationAdjustmentYellow | 0 |
Shadows2012 | 0 |
ShadowTint | 0 |
SharpenDetail | 25 |
SharpenEdgeMasking | 0 |
SharpenRadius | +1.0 |
Sharpness | 0 |
Software | Adobe Photoshop Lightroom 6.7 (Macintosh) |
SplitToningBalance | 0 |
SplitToningHighlightHue | 11 |
SplitToningHighlightSaturation | 13 |
SplitToningShadowHue | 257 |
SplitToningShadowSaturation | 5 |
ToneCurve | 0, 0, 255, 255 |
ToneCurveBlue | 0, 0, 255, 255 |
ToneCurveGreen | 0, 0, 255, 255 |
ToneCurveName | Linear |
ToneCurveName2012 | Linear |
ToneCurvePV2012 | 0, 0, 255, 255 |
ToneCurvePV2012Blue | 0, 0, 255, 255 |
ToneCurvePV2012Green | 0, 0, 255, 255 |
ToneCurvePV2012Red | 0, 0, 255, 255 |
ToneCurveRed | 0, 0, 255, 255 |
ToneMapStrength | 0 |
Version | 9.7 |
Vibrance | +29 |
VignetteAmount | 0 |
WhiteBalance | Custom |
Whites2012 | +14 |