Felt | Verdi |
AlreadyApplied | True |
Aperture | 10.0 |
ApertureValue (1) | 8.0 |
ApertureValue | 10.0 |
ApproximateFocusDistance | 0.28 |
Artist | R.Saethre |
AutoLateralCA | 0 |
AutoWhiteVersion | 134348800 |
BitsPerSample | 8 |
Blacks2012 | -52 |
BlueHue | 0 |
BlueSaturation | 0 |
CameraProfile | Adobe Standard |
CFAPattern (1) |
CFAPattern | [Red,Green][Green,Blue] |
CircleOfConfusion | 0.015 mm |
Clarity2012 | +24 |
ColorComponents | 3 |
ColorNoiseReduction | 25 |
ColorNoiseReductionDetail | 50 |
ColorNoiseReductionSmoothness | 50 |
ColorSpace (1) | Unknown (Uncalibrated) |
ColorSpace | Uncalibrated |
ColorTemperature | 5350 |
Contrast (1) | Unknown (Normal) |
Contrast | Normal |
Contrast2012 | +62 |
ConvertToGrayscale | False |
Copyright (1) | Roar Saethre (Photographer) - (Editor) |
Copyright | Roar Saethre |
CreateDate | 2016:01:04 11:19:33 |
Creator | R.Saethre |
CreatorTool | Adobe Photoshop Lightroom 6.2 (Windows) |
CropAngle | 0 |
CropBottom | 0.845376 |
CropConstrainToWarp | 0 |
CropLeft | 0.169437 |
CropRight | 0.828397 |
CropTop | 0.186416 |
CustomRendered (1) | Unknown (Normal process) |
CustomRendered | Normal |
DateCreated | 2016:01:04 11:19:33 |
DateTime | 2016:03:02 17:02:43 |
DateTimeDigitized | 2016:01:04 11:19:33 |
DateTimeOriginal | 2016:01:04 11:19:33 |
DefringeGreenAmount | 0 |
DefringeGreenHueHi | 60 |
DefringeGreenHueLo | 40 |
DefringePurpleAmount | 0 |
DefringePurpleHueHi | 70 |
DefringePurpleHueLo | 30 |
Dehaze | 0 |
DerivedFrom |
Description | x-default |
DigitalZoomRatio (1) | 1,00 |
DigitalZoomRatio | 1 |
DOF | 0.005 m (0.277 - 0.283 m) |
Exposure2012 | -0.24 |
ExposureCompensation | 0 |
ExposureMode (1) | Unknown (Manual exposure) |
ExposureMode | Manual |
ExposureProgram (1) | Unknown (Manual) |
ExposureProgram | Manual |
ExposureTime (1) | 1 |
ExposureTime | 1/100 |
Flash (1) |
Flash (2) | On, Fired |
Flash | No Flash |
FlashCompensation | 0 |
FNumber (1) | f/10,0 |
FNumber | 10.0 |
FocalLength | 60.0 mm |
FocalLength35efl | 60.0 mm (35 mm equivalent: 120.0 mm) |
FocalLengthIn35mmFormat | 120 mm |
Format | image/jpeg |
FOV | 17.1 deg |
GainControl (1) | Unknown (Normal) |
GainControl | None |
GrainAmount | 0 |
GreenHue | 0 |
GreenSaturation | 0 |
HasCrop | True |
HasSettings | True |
Highlights2012 | -45 |
HueAdjustmentAqua | 0 |
HueAdjustmentBlue | 0 |
HueAdjustmentGreen | 0 |
HueAdjustmentMagenta | 0 |
HueAdjustmentOrange | 0 |
HueAdjustmentPurple | 0 |
HueAdjustmentRed | 0 |
HueAdjustmentYellow | 0 |
HyperfocalDistance | 23.96 m |
ImageDescription | OLYMPUS DIGITAL CAMERA |
ImageHeight | 1200 |
ImageSize | 1600x1200 |
ImageWidth | 1600 |
ISO | 200 |
Lens | OLYMPUS M.60mm F2.8 Macro |
LensInfo | 60mm f/2.8 |
LensManualDistortionAmount | 0 |
LensProfileEnable | 0 |
LensProfileSetup | LensDefaults |
LensSerialNumber | ABQ230025 |
LightSource (1) | Unknown (Unknown) |
LightSource | Unknown |
LightValue | 12.3 |
LuminanceAdjustmentAqua | 0 |
LuminanceAdjustmentBlue | 0 |
LuminanceAdjustmentGreen | 0 |
LuminanceAdjustmentMagenta | 0 |
LuminanceAdjustmentOrange | 0 |
LuminanceAdjustmentPurple | 0 |
LuminanceAdjustmentRed | 0 |
LuminanceAdjustmentYellow | 0 |
LuminanceSmoothing | 0 |
Make | OLYMPUS IMAGING CORP. |
MaxApertureValue (1) | 2.0 |
MaxApertureValue | 2.8 |
Megapixels | 1.9 |
MeteringMode (1) | Unknown (Pattern) |
MeteringMode | Multi-segment |
Model | E-PM1 |
ModifyDate (1) | 2016:03:02 17:02:43+01:00 |
ModifyDate | 2016:03:02 20:59:48 |
ParametricDarks | 0 |
ParametricHighlights | 0 |
ParametricHighlightSplit | 75 |
ParametricLights | 0 |
ParametricMidtoneSplit | 50 |
ParametricShadows | 0 |
ParametricShadowSplit | 25 |
PerspectiveAspect | 0 |
PerspectiveHorizontal | 0 |
PerspectiveRotate | 0.0 |
PerspectiveScale | 100 |
PerspectiveUpright | 0 |
PerspectiveVertical | 0 |
PostCropVignetteAmount | 0 |
ProcessVersion | 6.7 |
ProfileDescription | sRGB IEC61966-2.1 |
Rating | 1 |
RedHue | 0 |
RedSaturation | 0 |
Rights | x-default |
Saturation (1) | 0 |
Saturation (2) | Unknown (Normal) |
Saturation | Normal |
SaturationAdjustmentAqua | 0 |
SaturationAdjustmentBlue | 0 |
SaturationAdjustmentGreen | 0 |
SaturationAdjustmentMagenta | 0 |
SaturationAdjustmentOrange | 0 |
SaturationAdjustmentPurple | 0 |
SaturationAdjustmentRed | 0 |
SaturationAdjustmentYellow | 0 |
ScaleFactor35efl | 2.0 |
SceneCaptureType (1) | Unknown (Standard) |
SceneCaptureType | Standard |
SerialNumber | BB8527958 |
Shadows2012 | 0 |
ShadowTint | 0 |
SharpenDetail | 25 |
SharpenEdgeMasking | 0 |
SharpenRadius | +1.0 |
Sharpness (1) | 25 |
Sharpness (2) | Unknown (Normal) |
Sharpness | Normal |
ShutterSpeed | 1/100 |
ShutterSpeedValue (1) | 1/64 |
ShutterSpeedValue | 1/100 |
Software (1) | Adobe Photoshop Lightroom 6.2 (Windows) |
Software | GIMP 2.8.16 |
SplitToningBalance | 0 |
SplitToningHighlightHue | 0 |
SplitToningHighlightSaturation | 0 |
SplitToningShadowHue | 0 |
SplitToningShadowSaturation | 0 |
Tint | +5 |
ToneCurve | 0, 0, 255, 255 |
ToneCurveBlue | 0, 0, 255, 255 |
ToneCurveGreen | 0, 0, 255, 255 |
ToneCurveName | Linear |
ToneCurveName2012 | Linear |
ToneCurvePV2012 | 0, 0, 255, 255 |
ToneCurvePV2012Blue | 0, 0, 255, 255 |
ToneCurvePV2012Green | 0, 0, 255, 255 |
ToneCurvePV2012Red | 0, 0, 255, 255 |
ToneCurveRed | 0, 0, 255, 255 |
ToneMapStrength | 0 |
Version | 9.2 |
Vibrance | +26 |
VignetteAmount | 0 |
WhiteBalance (1) | As Shot |
WhiteBalance (2) | Unknown (Auto white balance) |
WhiteBalance | Auto |
Whites2012 | 0 |